BEGIN:VCALENDAR
VERSION:2.0
PRODID:icalendar-ruby
CALSCALE:GREGORIAN
METHOD:PUBLISH
BEGIN:VEVENT
DTSTAMP:20260421T134846Z
UID:10-351340@westminsterpresbyterian.tithelysetup2.com
DTSTART:20260529T163000Z
DTEND:20260529T173000Z
CLASS:PUBLIC
CREATED:20260401T124224
DESCRIPTION:The last Friday of each month\, all the women of Westminster ar
 e invited to a dutch-treat lunch at a local restaurant. These provide a wo
 nderful time of fellowship and planning for projects and ministries. Conta
 ct Rachel Price or the church office for more information.
LAST-MODIFIED:20260401T124224
LOCATION:
SUMMARY:Ladies Lunch Bunch
URL;VALUE=URI:https://westminsterpresbyterian.tithelysetup2.com/events/ladi
 es-lunch-bunch/2026-05-29
ATTACH;FILENAME=IMG_2059.jpeg;FMTTYPE=image/jpeg:https://dq5pwpg1q8ru0.clou
 dfront.net/2026/04/01/17/42/23/e5768e25-917e-4240-991e-f6c996433107/IMG_20
 59.jpeg
END:VEVENT
END:VCALENDAR
